Workbook

Sheet Klasyfikacja Okręgowa
B1: XVI MISTRZOSTWA POLSKI RATOWNIKÓW DROGOWYCH POLSKIEGO ZWIĄZKU MOTOROWEGO
B4: Toruń, 16-18 września 2016 roku
C8: OFICJALNA KLASYFIKACJA OKRĘGOWA
A9: L.p. | B9: Zarząd Okręgowy | C9: Nr start. | D9: Kierowca | E9: Pilot | F9: Automobilklub/ Klub | H9: Uzyskane punkty | J9: Suma
A11: 1 | B11: Poznań | C11: 8 | D11: Piotrowski Przemysław | E11: Budyła Sebastian | F11: Automobilklub Wielkopolski | H11: =DANE!N25 -> 296.5 | J11: =H11+H12 -> 580
B12: Poznań | C12: 7 | D12: Wełnicka Anna Pietura Tomasz | E12: Pietura Tomasz | F12: Automobilklub Wielkopolski | H12: =DANE!N24 -> 283.5
A13: 2 | B13: Rzeszów | C13: 20 | D13: Czerwińska Weronika | E13: Machnik Mateusz | F13: Automobilklub Mielecki | H13: =DANE!N12 -> 292.5 | J13: =H13+H14 -> 567.5
B14: Rzeszów | C14: 17 | D14: Przywara Mariusz Wójcikiewicz Piotr | E14: Wójcikiewicz Piotr | F14: Automobilklub Rzeszowski | H14: =DANE!N14 -> 275
A15: 3 | B15: Katowice | C15: 11 | D15: Stafin Piotr Klimek Łukasz | E15: Łój Sebastian | F15: Automobilklub Śląski | H15: =DANE!N15 -> 277 | J15: =H15+H16 -> 552.5
B16: Katowice | C16: 12 | D16: Radoń Aleksandra Michałek Jolanta | E16: Michałek Jolanta | F16: Automobilklub Śląski | H16: =DANE!N16 -> 275.5
A17: 4 | B17: Warszawa | C17: 21 | D17: Nowicki Filip Wiśniewski Łukasz | E17: Wiśniewski Łukasz | F17: Moto-Auto-Klub | H17: =DANE!N34 -> 257.5 | J17: =H17+H18 -> 533.5
B18: Warszawa | C18: 23 | D18: Pigulski Krzysztof Szymaniak Adam | E18: Szymaniak Adam | F18: Automobilklub Warszawski | H18: =DANE!N22 -> 276
A19: 5 | B19: Łódź | C19: 13 | D19: Figura Sławomir Dziadzio Tadeusz | E19: Dziadzio Tadeusz | F19: KM „Energetyk” Bełchatów | H19: =DANE!N31 -> 268 | J19: =H19+H20 -> 525
B20: Łódź | C20: 18 | D20: Młynarczyk Marek Młynarczyk Iwona | E20: Młynarczyk Iwona | F20: KM "Energetyk" Bełchatów | H20: =DANE!N30 -> 257
A21: 6 | B21: Kielce | C21: 9 | D21: Gałęzowski Sebastian Smerdzyński Feliks | E21: Smerdzyński Feliks | F21: Automobilklub Kielecki | H21: =DANE!N17 -> 279.5 | J21: =H21 -> 279.5
A22: 7 | B22: Olsztyn | C22: 24 | D22: Suchocka Katarzyna Konwicki Łukasz | E22: Konwicki Łukasz | F22: Moto Klub Lidzbark Warm | H22: =DANE!N33 -> 262.5 | J22: =H22 -> 262.5
F25: Wywieszenie wyników godz. 20:15

Sheet Klasyfikacja Klubowa
B1: XVI MISTRZOSTWA POLSKI RATOWNIKÓW DROGOWYCH POLSKIEGO ZWIĄZKU MOTOROWEGO
B4: Toruń, 16-18 września 2016 roku
C8: OFICJALNA KLASYFIKACJA KLUBOWA
A9: Miejsce | B9: Automobilklub/ Klub | C9: Nr start. | D9: Kierowca | E9: Pilot | F9: Zarząd Okręgowy | H9: Uzyskane punkty | J9: Suma
A11: 1 | B11: Automobilklub Wielkopolski | C11: 7 | D11: Wełnicka Anna Pietura Tomasz | E11: Pietura Tomasz | F11: Poznań | H11: ='Klasyfikacja Okręgowa'!H12:I12 -> 283.5 | J11: 580
C12: 8 | D12: Piotrowski Przemysław | E12: Budyła Sebastian | H12: ='Klasyfikacja Okręgowa'!H11:I11 -> 296.5
A13: 2 | B13: Automobilklub Mielecki | C13: 10 | D13: Kusek Jacek | E13: Skowron Grzegorz | F13: Rzeszów | H13: =DANE!N11 -> 267 | J13: 559.5
C14: 20 | D14: Czerwińska Weronika | E14: Machnik Mateusz | H14: ='Klasyfikacja Okręgowa'!H13:I13 -> 292.5
A15: 3 | B15: Automobilklub Śląski | C15: 11 | D15: Stafin Piotr | E15: Łój Sebastian | F15: Katowice | H15: ='Klasyfikacja Okręgowa'!H15:I15 -> 277 | J15: 552.5
C16: 12 | D16: Radoń Aleksandra Michałek Jolanta | E16: Michałek Jolanta | H16: ='Klasyfikacja Okręgowa'!H16:I16 -> 275.5
A17: 4 | B17: Automobilklub Warszawski | C17: 22 | D17: Gołaszewski Marcin Zawadka Piotr | E17: Zawadka Piotr | F17: Warszawa | H17: =DANE!N21 -> 273 | J17: 549
C18: 23 | D18: Pigulski Krzysztof | E18: Szymaniak Adam | H18: ='Klasyfikacja Okręgowa'!H18:I18 -> 276
A19: 5 | B19: KM „Energetyk” Bełchatów | C19: 13 | D19: Figura Sławomir | E19: Dziadzio Tadeusz | F19: Łódź | H19: ='Klasyfikacja Okręgowa'!H19:I19 -> 268 | J19: 525
C20: 18 | D20: Młynarczyk Marek Młynarczyk Iwona | E20: Młynarczyk Iwona | H20: ='Klasyfikacja Okręgowa'!H20:I20 -> 257
A21: 6 | B21: Klub Motorowy i Ratownictwa Drogowego NIL w Kolbuszowej | C21: 4 | D21: Dzierżak Adam | E21: Sadlej Zdun Karolina | F21: Rzeszów | H21: =DANE!N28 -> 255.5 | J21: 514.5
C22: 6 | D22: Sokalski Andrzej | E22: Sokalska Kinga | H22: =DANE!N29 -> 259
A23: 7 | B23: Automobilklub Kielecki | C23: 9 | D23: Gałęzowski Sebastian Smerdzyński Feliks | E23: Smerdzyński Feliks | F23: Kielce | H23: ='Klasyfikacja Okręgowa'!H21:I21 -> 279.5 | J23: =H23 -> 279.5
A24: 8 | B24: Automobilklub Rzeszowski | C24: 17 | D24: Przywara Mariusz | E24: Wójcikiewicz Piotr | F24: Rzeszów | H24: 275 | J24: =H24 -> 275
A25: 9 | B25: Automobilklub Mysłowicki | C25: 14 | D25: Zieliński Daniel | E25: Ciołczyk Miłosz | F25: Katowice | H25: 270.5 | J25: =H25 -> 270.5
A26: 10 | B26: Moto Klub Lidzbark Warm | C26: 24 | D26: Suchocka Katarzyna Konwicki Łukasz | E26: Konwicki Łukasz | F26: Olsztyn | H26: 262.5 | J26: =H26 -> 262.5
A27: 11 | B27: Moto-Auto-Klub | C27: 21 | D27: Nowicki Filip | E27: Wiśniewski Łukasz | F27: Warszawa | H27: 257.5 | J27: =H27 -> 257.5
A28: 12 | B28: Automobilklub Polski | C28: 19 | D28: Żułkowski Jerzy | E28: Kowalski Adam | F28: Warszawa | H28: 245.5 | J28: =H28 -> 245.5
A29: 13 | B29: Dłutowski Klub Motorowy | C29: 16 | D29: Kowalczyk Michał | E29: Kardas Magdalena | F29: Łódź | H29: 173.5 | J29: =H29 -> 173.5
F30: Wywieszenie wyników godz. 20:15 | I30: Wywieszenie wyników godz. 20:15

Sheet DANE
C1: XVI MISTRZOSTWA POLSKI RATOWNIKÓW DROGOWYCH POLSKIEGO ZWIĄZKU MOTOROWEGO
C4: Toruń, 16-18 września 2016 roku
C8: OFICJALNA KLASYFIKACJA ZAŁÓG
A9: L.p. | B9: Nazwisko i imię | C9: Klub | D9: Nr. start. | E9: Testy | F9: Wypadek 1 | H9: Wypadek 2 | J9: Wypadek 3 | L9: Fantom | M9: Próba sprawn. | N9: Suma pkt.
F10: zabezp. | G10: pomoc | H10: zabezp. | I10: pomoc | J10: zabezp. | K10: pomoc
A11: 20. | B11: Kusek Jacek Skowron Grzegorz | C11: Automobilklub Mielecki | D11: 10 | E11: 28 | F11: 30 | G11: 36 | H11: 30 | I11: 49 | J11: 29 | K11: 50 | L11: 14 | M11: 1 | N11: =SUM(E11:M11) -> 267 | O11: =N11+N12 -> 559.5
A12: 21. | B12: Czerwińska Weronika Machnik Mateusz | C12: Automobilklub Mielecki | D12: 20 | E12: 27 | F12: 30 | G12: 53 | H12: 30 | I12: 56 | J12: 30 | K12: 52 | L12: 13.5 | M12: 1 | N12: =SUM(E12:M12) -> 292.5
A13: 1. | B13: Zieliński Daniel Ciołczyk Miłosz | C13: Automobilklub Mysłowicki | D13: 14 | E13: 24 | F13: 28 | G13: 36 | H13: 30 | I13: 52 | J13: 29 | K13: 57 | L13: 13.5 | M13: 1 | N13: =M13+L13+K13+J13+I13+H13+G13+F13+E13 -> 270.5
A14: 25. | B14: Przywara Mariusz Wójcikiewicz Piotr | C14: Automobilklub Rzeszowski | D14: 17 | E14: 28 | F14: 30 | G14: 41 | H14: 30 | I14: 47 | J14: 30 | K14: 50 | L14: 15 | M14: 4 | N14: =SUM(E14:M14) -> 275
A15: 5. | B15: Stafin Piotr Klimek Łukasz | C15: Automobilklub Śląski | D15: 11 | E15: 28 | F15: 30 | G15: 45 | H15: 27 | I15: 51 | J15: 27 | K15: 56 | L15: 11 | M15: 2 | N15: =M15+L15+K15+J15+I15+H15+G15+F15+E15 -> 277
A16: 6. | B16: Radoń Aleksandra Michałek Jolanta | C16: Automobilklub Śląski | D16: 12 | E16: 28 | F16: 27 | G16: 48 | H16: 28 | I16: 49 | J16: 29 | K16: 55 | L16: 10.5 | M16: 1 | N16: =M16+L16+K16+J16+I16+H16+G16+F16+E16 -> 275.5
A17: 17. | B17: Gałęzowski Sebastian Smerdzyński Feliks | C17: Automobilklub Kielecki | D17: 9 | E17: 28 | F17: 27 | G17: 51 | H17: 29 | I17: 50 | J17: 29 | K17: 52 | L17: 12.5 | M17: 1 | N17: =SUM(E17:M17) -> 279.5
A18: 7. | B18: Żułkowski Jerzy Kowalski Adam | C18: Automobilklub Polski | D18: 19 | E18: 30 | F18: 30 | G18: 35 | H18: 27 | I18: 39 | J18: 27 | K18: 44 | L18: 12.5 | M18: 1 | N18: =M18+L18+K18+J18+I18+H18+G18+F18+E18 -> 245.5
A19: 14. | B19: Duda Zbigniew Wyczółkowski Kamil | C19: Automobilklub Warszawski | D19: 3 | E19: 29 | F19: 17 | G19: 16 | H19: 29 | I19: 36 | J19: 26 | K19: 39 | L19: 10 | M19: 3 | N19: =SUM(E19:M19) -> 205
A20: 13. | B20: Wasilewski Piotr Ostrowski Waldemar | C20: Automobilklub Warszawski | D20: 5 | E20: 29 | F20: 21 | G20: 30 | H20: 28 | I20: 46 | J20: 29 | K20: 52 | L20: 8 | M20: 1 | N20: =M20+L20+K20+J20+I20+H20+G20+F20+E20 -> 244
A21: 16. | B21: Gołaszewski Marcin Zawadka Piotr | C21: Automobilklub Warszawski | D21: 22 | E21: 30 | F21: 23 | G21: 46 | H21: 30 | I21: 48 | J21: 28 | K21: 51 | L21: 11 | M21: 6 | N21: =SUM(E21:M21) -> 273
A22: 12. | B22: Pigulski Krzysztof Szymaniak Adam | C22: Automobilklub Warszawski | D22: 23 | E22: 29 | F22: 30 | G22: 51 | H22: 28 | I22: 43 | J22: 28 | K22: 52 | L22: 14 | M22: 1 | N22: =M22+L22+K22+J22+I22+H22+G22+F22+E22 -> 276
A23: 9. | B23: Roguscha Karol Fiołek Aleksandra | C23: Automobilklub Wielkopolski | D23: 2 | E23: 30 | F23: 21 | G23: 43 | H23: 28 | I23: 48 | J23: 26 | K23: 54 | L23: 12 | M23: 1 | N23: =M23+L23+K23+J23+I23+H23+G23+F23+E23 -> 263
A24: 11. | B24: Wełnicka Anna Pietura Tomasz | C24: Automobilklub Wielkopolski | D24: 7 | E24: 30 | F24: 30 | G24: 43 | H24: 30 | I24: 52 | J24: 28 | K24: 56 | L24: 13.5 | M24: 1 | N24: =M24+L24+K24+J24+I24+H24+G24+F24+E24 -> 283.5
A25: 8. | B25: Piotrowski Przemysław Budyła Sebastian | C25: Automobilklub Wielkopolski | D25: 8 | E25: 30 | F25: 30 | G25: 52 | H25: 30 | I25: 50 | J25: 29 | K25: 57 | L25: 13.5 | M25: 5 | N25: =M25+L25+K25+J25+I25+H25+G25+F25+E25 -> 296.5
A26: 10. | B26: Małecki Jarosław Gąsiorowska Karina | C26: Automobilklub Wielkopolski | D26: 15 | E26: 29 | F26: 28 | G26: 37 | H26: 30 | I26: 52 | J26: 28 | K26: 48 | L26: 11.5 | M26: 1 | N26: =M26+L26+K26+J26+I26+H26+G26+F26+E26 -> 264.5
A27: 4. | B27: Kowalczyk Michał Kardas Magdalena | C27: Dłutowski Klub Motorowy | D27: 16 | E27: 25 | H27: 30 | I27: 48 | J27: 25 | K27: 37 | L27: 7.5 | M27: 1 | N27: =M27+L27+K27+J27+I27+H27+G27+F27+E27 -> 173.5
A28: 24. | B28: Dzierżak Adam Sadlej Zdun Karolina | C28: Klub Motorowy i Ratownictwa Drogowego NIL w Kolbuszowej | D28: 4 | E28: 30 | F28: 30 | G28: 38 | H28: 30 | I28: 41 | J28: 29 | K28: 41 | L28: 15.5 | M28: 1 | N28: =SUM(E28:M28) -> 255.5
A29: 23. | B29: Sokalski Andrzej Sokalska Kinga | C29: Klub Motorowy i Ratownictwa Drogowego NIL w Kolbuszowej | D29: 6 | E29: 30 | F29: 30 | G29: 31 | H29: 28 | I29: 49 | J29: 26 | K29: 50 | L29: 14 | M29: 1 | N29: =SUM(E29:M29) -> 259
A30: 2. | B30: Młynarczyk Marek Młynarczyk Iwona | C30: KM "Energetyk" Bełchatów | D30: 18 | E30: 27 | F30: 30 | G30: 41 | H30: 28 | I30: 45 | J30: 28 | K30: 45 | L30: 12 | M30: 1 | N30: =SUM(E30:M30) -> 257
A31: 3. | B31: Figura Sławomir Dziadzio Tadeusz | C31: KM „Energetyk” Bełchatów | D31: 13 | E31: 28 | F31: 30 | G31: 43 | H31: 28 | I31: 50 | J31: 29 | K31: 50 | L31: 9 | M31: 1 | N31: =M31+L31+K31+J31+I31+H31+G31+F31+E31 -> 268
B32: Łukasz Kowalczyk Rafał Jankowski | C32: MKM RP Grudziądz | D32: 1 | N32: =M32+L32+K32+J32+I32+H32+G32+F32+E32 -> 0
A33: 22. | B33: Suchocka Katarzyna Konwicki Łukasz | C33: Moto Klub Lidzbark Warm | D33: 24 | E33: 23 | F33: 29 | G33: 43 | H33: 26 | I33: 52 | J33: 26 | K33: 48 | L33: 14.5 | M33: 1 | N33: =SUM(E33:M33) -> 262.5
A34: 18. | B34: Nowicki Filip Wiśniewski Łukasz | C34: Moto-Auto-Klub | D34: 21 | E34: 29 | F34: 30 | G34: 38 | H34: 30 | I34: 44 | J34: 28 | K34: 45 | L34: 12.5 | M34: 1 | N34: =SUM(E34:M34) -> 257.5
