Workbook

Sheet WNIOSEK
A8: Wniosek o powierzenie grantu w ramach projektu „Granty na kapitał obrotowy dla mikro i małych przedsiębiorstw w branży gastronomicznej oraz fitness w związku z wystąpieniem stanu epidemii COVID-19”
A12: Numer wniosku o grant | H12: Data wypełnienia wniosku o grant | K12: Wybierz z listy: | N12: Godzina wpłynięcia wniosku do skrzynki Grantodawcy
A14: Nazwa Wnioskodawcy
A16: Rok rozpoczęcia prowadzenia działalności gospodarczej | H16: KOMUNIKATY: | J16: =IF(G16=2020,"wsparcia nie mogą uzyskać przedsiębiorstwa, które rozpoczęły działaność w roku 2020","rok rozpoczęcia prowadzenia działalności umożliwia wzięcie udziału w grancie") -> rok rozpoczęcia prowadzenia działalności umożliwia wzięcie udziału w grancie
A18: NIP Wnioskodawcy | H18: Adres siedziby Wnioskodawcy | M18: Powiat | N18: Wybierz z listy: | P18: Gmina | Q18: Wybierz z listy:
D19: wpisuj NIP bez spacji oraz "-"
A20: Osoba upoważniona do kontaktów | H20: Miejscowość | Q20: Kod pocztowy
A21: Imię | Q21: wpisuj kod bez spacji oraz "-"
A22: Nazwisko | H22: Ulica | M22: Numer budynku | Q22: Numer lokalu
A23: Telefon
A24: Adres e-mail | H24: Telefon | M24: Adres e-mail
A26: Nr konta bankowego Wnioskodawcy | E26: wpisuj nr bez spacji | M26: KOMUNIKATY: | O26: =IF(LEN(G26)=26,"numer zawiera prawidłową liczbę znaków","numer zawiera NIEPRAWIDŁOWĄ liczbę znaków") -> numer zawiera NIEPRAWIDŁOWĄ liczbę znaków
A28: Numer kodu PKD przeważającej działalności Wnioskodawcy | D28: Wybierz z listy: | G28: Status podmiotu - na dzień składania wniosku Wnioskodawca, zgodnie z rozporządzeniem Komisji (UE) nr 651/2014 z dnia 17 czerwca 2014 r. uznającym niektóre rodzaje pomocy za zgodne z rynkiem wewnętrznym w zastosowaniu art. 107 i 108 Traktatu oświadcza, że jest przedsiębiorcą:
A30: Forma prawna Wnioskodawcy | D30: Wybierz z listy: | G30: jeśli podmiot jest: mikroprzedsiębiorstwem - wybierz 1, małym przedsiębiorstwem - wybierz 2, średnim przedsiębiorstwem - wybierz 3, dużym przedsiębiorstwem - wybierz 4 | M30: Wybierz z listy: | N30: KOMUNIKATY: | P30: =IF(M30<1,"1.Nie wskazano statusu-wskaż od 1 do 4",IF(M30>4,"1.Nie wskazano statusu-wskaż od 1 do 4","1.Wybrano status podmiotu")) -> 1.Nie wskazano statusu-wskaż od 1 do 4
N31: =IF(M30=1,"2.Status podmiotu umożliwia uzyskanie wsparcia",IF(M30=2,"2.Status podmiotu umożliwia uzyskanie wsparcia",IF(M30=3,"2.Status podmiotu UNIEMOŻLIWIA uzyskanie wsparcia",IF(M30=4,"2.Status podmiotu UNIEMOŻLIWIA uzyskanie wsparcia","2. Status podmiotu nie został określony")))) -> 2. Status podmiotu nie został określony
A32: Uwaga, jeżeli:
A33: 1. miejsce realizacji projektu jest inne od wskazanego powyżej adresu siedziby Wnioskodawcy,
A34: 2. adres korespondencyjny jest inny od wskazanego powyżej adresu siedziby Wnioskodawcy,
A35: 3. wnioskodawca posiada wspólnika
A36: należy wypełnić odpowiednie tabele w Załącznikach do Wniosku o powierzenie grantu informujące o stanie i sytuacji Wnioskującego w ramach projektu „Granty na kapitał obrotowy dla mikro i małych przedsiębiorstw w branży gastronomicznej oraz fitness w związku z wystąpieniem stanu epidemii COVID-19”
A39: Uzasadnienie Wniosku o powierzenie grantu
A40: W związku ze wzrostem zachorowań na COVID-19 jesienią 2020 roku, Rada Ministrów wprowadziła poprzez kolejne rozporządzenia zmieniające, zmiany w rozporządzeniu w sprawie ustanowienia określonych ograniczeń, nakazów i zakazów w związku z wystąpieniem stanu epidemii. Powyższe ograniczenia powodują istotne ryzyko dla utrzymania działalności podmiotu, który reprezentuję, w związku z sytuacją nagłego niedoboru i braku płynności finansowej, co skutkować może także wzrostem bezrobocia. W szczególności podmiot, który reprezentuję zanotował znaczący spadek obrotu gospodarczego, udokumentowany poniżej poprzez porównanie dla miesięcy wrzesień i listopad w roku 2020.
N46: Podpis Wnioskodawcy (na wydruku)
A48: Dane do wyliczenia wysokości wnioskowanego wsparcia
A50: Obrót za wrzesień 2020 r. | G50: OŚWIADCZENIE DOTYCZĄCE DATY ROZPOCZĘCIA DZIAŁALNOŚCI Oświadczam, że podmiot który reprezentuję, rozpoczął prowadzenie działalności gospodarczej nie wcześniej niż 1 grudnia 2019 r. Wybór opcji 1 oznacza złożenie oświadczenia | L50: Jeśli podmiot rozpoczął działalność pomiędzy 1.12.2019 a 31.12.2019 - wybierz 1, jeśli przed 1.12.2019 - wybierz 0 | O50: KOMUNIKATY:
O51: =IF(E50>=3000,"1.Wysokość obrotów we wrześniu umożliwia uzyskanie wsparcia","1.Wysokość obrotów we wrześniu UNIEMOŻLIWIA uzyskanie wsparcia") -> 1.Wysokość obrotów we wrześniu UNIEMOŻLIWIA uzyskanie wsparcia
A52: Obrót za listopad 2020 r.
O53: =IF(E54<50,"2.Zbyt mały spadek obrotów - BRAK MOŻLIWOŚCI uzyskania wsparcia","2.Wielkość spadku obrotów umożliwia uzyskanie wsparcia") -> #DIV/0!
A54: Wyliczony % spadek obrotu | E54: =100-(E52*100/E50) -> #DIV/0! | M54: 0
O55: =IF(M54=1,"3. Rozpoczęcie działalności nastąpiło 1.12.2019 lub później","3. Podmiot rozpoczął działalność przed 1.12.2019") -> 3. Podmiot rozpoczął działalność przed 1.12.2019
K56: Wybierz z listy 0 lub 1
A58: Wyliczenie wysokości wnioskowanego wsparcia
I59: =IF(E50<3000,0,1) -> 0 | J59: =IF(E54<50,0,1) -> #DIV/0! | K59: =IF(I61>I60,0,1) -> 0 | L59: =IF(I61<1,0,1) -> 1 | M59: =IF(I61=2,12000,6000) -> 6000 | N59: =ROUND((((E54-50)*100)+M54*1000),0) -> #DIV/0!
A60: Na podstawie wielkości obrotu w miesiącu wrzesień 2020 r. wnioskujący może zadeklarować utrzymanie nastepującej maksymalnej liczby miejsc pracy: | I60: =IF(E50>15000,2,1)*I59 -> 0 | L60: WYLICZONA KWOTA MOŻLIWEGO DOFINANSOWANIA W PROJEKCIE | R60: =I59*J59*K59*L59*M59 -> #DIV/0!
A61: Wnioskodawca deklaruje utrzymanie miejsc pracy w następującej liczbie (wartość nie większa, niż podana powyżej wartość maksymalna) | I61: Wybierz z listy: | L61: WYLICZONA LICZBA PUNKTÓW | R61: =I59*J59*N59 -> #DIV/0!
A62: KOMUNIKATY: | D62: =IF(I61="Wybierz z listy:","1. NIE ZADEKLAROWANO utrzymania miejsc pracy", "1. Zadeklarowano utrzymanie miejsc pracy") -> 1. NIE ZADEKLAROWANO utrzymania miejsc pracy | L62: =IF(I61>I60,"2. Zadeklarowana liczba jest NIEZGODNA z regulaminem",(IF(I61<1,"2. NIE ZADEKLAROWANO utrzymania miejsc pracy","2. Zadeklarowana liczba jest zgodna z regulaminem"))) -> 2. Zadeklarowana liczba jest NIEZGODNA z regulaminem
A64: Uwaga, jeżeli Wnioskodawca zadeklaruje utrzymanie zatrudnienia poprzez zawarcie umowy cywilnoprawnej z osobami prowadzącymi własną, jednoosobową działalność gospodarczą, zobowiązany jest wypełnić odpowiednią tabelę w Załącznikach do Wniosku o powierzenie grantu informujące o stanie i sytuacji Wnioskującego w ramach projektu „Granty na kapitał obrotowy dla mikro i małych przedsiębiorstw w branży gastronomicznej oraz fitness w związku z wystąpieniem stanu epidemii COVID-19” oraz podać poniżej numer(y) NIP powyższego(ych) podmiotu(ów)
A68: Numer(y) NIP podmiotu(ów), z którym(i) Wnioskodawca zamierza zawrzeć umowę(y) cywilnoprawną(e) zapewniającą(e) spełnienie warunku utrzymania zatrudnienia
A69: Podmiot nr 1 | H69: Podmiot nr 2
D70: wpisuj NIP bez spacji oraz "-" | K70: wpisuj NIP bez spacji oraz "-"
N71: Podpis Wnioskodawcy (na wydruku)

Sheet Przegląd błędów
A1: Jeśli dla danego pola wskazano BŁĄD należy się upewnić, czy zostało ono poprawnie wypełnione
A3: Dostrzeżone błędy we wniosku:
A5: Wnioskodawca nie określił daty wypełnienia wniosku o grant | B5: =IF(WNIOSEK!K12="Wybierz z listy:","BŁĄD","brak błedu") -> BŁĄD
A6: Wnioskodawca nie podał nazwy | B6: =IF(ISBLANK(WNIOSEK!F14),"BŁĄD","brak błędu") -> BŁĄD
A7: Wnioskodawca nie podał numeru NIP | B7: =IF(ISBLANK(WNIOSEK!D18),"BŁĄD","brak błędu") -> BŁĄD
A8: Wnioskodawca nie podał w adresie nazwy powiatu | B8: =IF(WNIOSEK!N18="Wybierz z listy:","BŁĄD","brak błedu") -> BŁĄD
A9: Wnioskodawca nie podał w adresie nazwy gminy | B9: =IF(WNIOSEK!Q18="Wybierz z listy:","BŁĄD","brak błedu") -> BŁĄD
A10: Wnioskodawca nie podał w adresie miejscowości | B10: =IF(ISBLANK(WNIOSEK!J20),"BŁĄD","brak błędu") -> BŁĄD
A11: Wnioskodawca nie podał w adresie kodu pocztowego | B11: =IF(ISBLANK(WNIOSEK!S20),"BŁĄD","brak błędu") -> BŁĄD
A12: Wnioskodawca nie podał w adresie telefonu | B12: =IF(ISBLANK(WNIOSEK!I24),"BŁĄD","brak błędu") -> BŁĄD
A13: Wnioskodawca nie podał adresu mailowego | B13: =IF(ISBLANK(WNIOSEK!O24),"BŁĄD","brak błędu") -> BŁĄD
A14: Wnioskodawca nie podał formy prawnej podmiotu | B14: =IF(WNIOSEK!D30="Wybierz z listy:","BŁĄD","brak błedu") -> BŁĄD
A15: Określenie daty rozpoczęcia działalności podmiotu | B15: =IF(WNIOSEK!M54=0,"Wnioskodawca nie zmienił domyślnego wyboru daty rozpoczęcia działalności - pozostawiono 0, a więc wskazano rozpoczęcie przed 1.12.2019","Wnioskodawca określił datę rozpoczęcia działalności - wybrano 1, a więc wskazano rozpoczęcie po 1.12.2019") -> Wnioskodawca nie zmienił domyślnego wyboru daty rozpoczęcia działalności - pozostawiono 0, a więc wskazano rozpoczęcie przed 1.12.2019
A16: Wnioskodawca nie określił statusu podmiotu | B16: =IF(WNIOSEK!M30="Wybierz z listy:","BŁĄD","brak błedu") -> BŁĄD
A18: Osoba upoważniona do kontaktów - brak imienia | B18: =IF(ISBLANK(WNIOSEK!C21),"BŁĄD","brak błędu") -> BŁĄD
A19: Osoba upoważniona do kontaktów - brak nazwiska | B19: =IF(ISBLANK(WNIOSEK!C22),"BŁĄD","brak błędu") -> BŁĄD
A20: Osoba upoważniona do kontaktów - brak telefonu | B20: =IF(ISBLANK(WNIOSEK!C23),"BŁĄD","brak błędu") -> BŁĄD
A21: Osoba upoważniona do kontaktów - brak adresu mailowego | B21: =IF(ISBLANK(WNIOSEK!C24),"BŁĄD","brak błędu") -> BŁĄD
A22: Numer konta bankowego nie został podany lub zawiera niewłaściwą liczbę znaków | B22: =IF(LEN(WNIOSEK!G26)<>26,"BŁĄD","brak błędu") -> BŁĄD
A25: Numer NIP Wniskodawcy ma nieprawidłową liczbę znaków | B25: =IF((LEN(WNIOSEK!D18)<>10),"BŁĄD","brak błędu") -> BŁĄD
A26: Numer NIP Podmiotu nr 1 ma nieprawidłową liczbę znaków | B26: =IF(AND((LEN(WNIOSEK!D69)>1),(LEN(WNIOSEK!D69)<>10)),"BŁĄD","brak błędu") -> brak błędu
A27: Numer NIP Podmiotu nr 2 ma nieprawidłową liczbę znaków | B27: =IF(AND((LEN(WNIOSEK!K69)>1),(LEN(WNIOSEK!K69)<>10)),"BŁĄD","brak błędu") -> brak błędu
A28: Kod pocztowy Wnioskodawcy ma nieprawidłową liczbę znaków | B28: =IF((LEN(WNIOSEK!S20)<>5),"BŁĄD","brak błędu") -> BŁĄD
A30: Błędy uniemożliwiające udział w projekcie:
A31: Brak lub nieprawidłowy numer NIP Wnioskodawcy wyklucza możliwość udziału w projekcie | B31: =IF((LEN(WNIOSEK!D18)<>10),"BŁĄD","brak błędu") -> BŁĄD
A32: Status podmiotu wyklucza możliwość udziału w projekcie | B32: =IF(OR(WNIOSEK!M30<1,WNIOSEK!M30>2),"BŁĄD","brak błędu") -> BŁĄD
A33: Brak kodu PKD Wnioskodawcy wyklucza możliwość udziału w projekcie | B33: =IF(WNIOSEK!D28="Wybierz z listy:","BŁĄD","brak błędu") -> BŁĄD
A34: Nie podano obrotu za wrzesień | B34: =IF(ISBLANK(WNIOSEK!E50),"BŁĄD","brak błędu") -> BŁĄD
A35: Nie podano obrotu za listopad | B35: =IF(ISBLANK(WNIOSEK!E52),"BŁĄD","brak błędu") -> BŁĄD
A36: Obrót za wrzesień jest zbyt niski dla udziału w pojekcie | B36: =IF(WNIOSEK!E50<3000,"BŁĄD","brak błędu") -> BŁĄD
A37: Spadek obrotów jest zbyt niski dla udziału w pojekcie | B37: =IF(WNIOSEK!E54<50,"BŁĄD","brak błędu") -> #DIV/0!
A38: Wnioskodawca nie zadeklarował ile miejsc pracy zamierza utrzymać | B38: =IF(WNIOSEK!I61="Wybierz z listy:","BŁĄD","brak błędu") -> BŁĄD
A39: Wnioskodawca błędnie zadeklarował ile miejsc pracy zamierza utrzymać | B39: =IF(WNIOSEK!I61>WNIOSEK!I60,"BŁĄD",(IF(WNIOSEK!I61<1,"BŁĄD","brak błędu"))) -> BŁĄD
B41: =IF(OR(B38="BŁĄD",B37="BŁĄD",B40="BŁĄD",B31="BŁĄD",B32="BŁĄD",B33="BŁĄD",B34="BŁĄD",B35="BŁĄD",B36="BŁĄD"),"Brak możliwości udziału w projekcie","Brak błędów krytycznych") -> #DIV/0!
A43: Wniskodawca podał we wniosku następujące informacje:
A45: Data wypełnienia wniosku o grant: | B45: =WNIOSEK!K12 -> Wybierz z listy:
A47: Nazwa podmiotu: | B47: =WNIOSEK!F14 -> 0
A48: Adres - powiat | B48: =WNIOSEK!N18 -> Wybierz z listy:
A49: Adres - gmina | B49: =WNIOSEK!Q18 -> Wybierz z listy:
A50: Adres - miejscowość | B50: =WNIOSEK!J20 -> 0
A51: Adres - ulica | B51: =WNIOSEK!I22 -> 0
A52: Adres - numer budynku | B52: =WNIOSEK!O22 -> 0
A53: Adres - numer lokalu | B53: =WNIOSEK!S22 -> 0
A54: Telefon | B54: =WNIOSEK!I24 -> 0
A55: Adres e-mail | B55: =WNIOSEK!O24 -> 0
A57: NIP | B57: =WNIOSEK!D18 -> 0
A58: PKD | B58: =WNIOSEK!D28 -> Wybierz z listy:
A59: Forma prawna | B59: =WNIOSEK!D30 -> Wybierz z listy:
A60: Status podmiotu | B60: =IF(WNIOSEK!M30=1,"1-mikroprzedsiębiorstwo",IF(WNIOSEK!M30=2,"2-małe przedsiębiorstwo",IF(WNIOSEK!M30=3,"3-średnie przedsiębiorstwo",IF(WNIOSEK!M30=4,"4-duże przedsiębiorstwo","nie wskazał statusu podmiotu")))) -> nie wskazał statusu podmiotu
A61: Nr konta bankowego | B61: =WNIOSEK!G26 -> 0
A62: Osoba do kontaktu - imię | B62: =WNIOSEK!C21 -> 0
A63: Osoba do kontaktu - nazwisko | B63: =WNIOSEK!C22 -> 0
A64: Osoba do kontaktu - telefon | B64: =WNIOSEK!C23 -> 0
A65: Osoba do kontaktu - adres e-mail | B65: =WNIOSEK!C24 -> 0
A67: Wielkość obrotu za wrzesień 2020 | B67: =WNIOSEK!E50 -> 0
A68: Wielkość obrotu za listopad 2020 | B68: =WNIOSEK!E52 -> 0
A70: Określenie daty rozpoczęcia działalności podmiotu | B70: =IF(WNIOSEK!M54=0,"wskazano rozpoczęcie przed 1.12.2019","wskazano rozpoczęcie po 1.12.2019") -> wskazano rozpoczęcie przed 1.12.2019
A72: Wnioskodawca zadeklarował utrzymanie następującej liczby miejsc pracy: | B72: =WNIOSEK!I61 -> Wybierz z listy:
A74: Wnioskodawca wskazał, że zamierza zawrzeć umowy cywilnoprawne, zapewniające spełnienie warunku utrzymania zatrudnienia z podmiotami o następujących numerach NIP:
A76: Podmiot nr 1 | B76: =IF((LEN(WNIOSEK!D69)>0),WNIOSEK!D69,"nie wskazał") -> nie wskazał
A77: Podmiot nr 2 | B77: =IF((LEN(WNIOSEK!K69)>0),WNIOSEK!K69,"nie wskazał") -> nie wskazał

Sheet LISTY
A1: Wybierz z listy: | C1: Wybierz z listy: | F1: Wybierz z listy: | H1: Wybierz z listy: | J1: Wybierz z listy: | M1: Wybierz z listy: | O1: Wybierz z listy: | R1: Wybierz z listy: | T1: Kolumna1
A2: Aleksandrów Kujawski - gmina miejska | C2: m.Bydgoszcz | F2: 56.10.A | H2: 099 - osoby fizyczne prowadzące działalność gospodarczą | J2: 44166 | M2: 1 | O2: 0 | R2: 1 | T2: 0
A3: Aleksandrów Kujawski - gmina wiejska | C3: m.Grudziądz | F3: 93.13.Z | H3: 019 - spółki cywilne prowadzące działalność na podstawie umowy zawartej zgodnie z kodeksem cywilnym | J3: 44167 | M3: 2 | O3: 1 | R3: 2 | T3: 1
A4: Barcin | C4: m.Toruń | F4: 96.04.Z | H4: 023 - spółki przewidziane w przepisach innych ustaw niż kodeks spółek handlowych i kodeks cywilny lub formy prawne, do których stosuje się przepisy o spółkach | J4: 44168 | M4: 3
A5: Bartniczka | C5: m.Włocławek | H5: 044 - uczelnie | J5: 44169 | M5: 4
A6: Baruchowo | C6: powiat aleksandrowski | H6: 049 - fundusze | J6: 44170
A7: Bądkowo | C7: powiat brodnicki | H7: 050 - kościół katolicki | J7: 44171
A8: Białe Błota | C8: powiat bydgoski | H8: 051 - inne kościoły i związki wyznaniowe | J8: 44172
A9: Bobrowniki | C9: powiat chełmiński | H9: 053 - europejskie ugrupowania współpracy terytorialnej
A10: Bobrowo | C10: powiat golubsko-dobrzyński | H10: 055 - stowarzyszenia niewpisane do krs
A11: Boniewo | C11: powiat grudziądzki | H11: 060 - organizacje społeczne oddzielnie niewymienione niewpisane do krs
A12: Brodnica - gmina miejska | C12: powiat inowrocławski | H12: 070 - partie polityczne
A13: Brodnica - gmina wiejska | C13: powiat lipnowski | H13: 076 - samorząd gospodarczy i zawodowy niewpisany do krs
A14: Brześć Kujawski | C14: powiat mogileński | H14: 080 - przedstawicielstwa zagraniczne
A15: Brzozie | C15: powiat nakielski | H15: 085 - wspólnoty mieszkaniowe
A16: Brzuze | C16: powiat radziejowski | H16: 114 - europejskie zgrupowania interesów gospodarczych
A17: Bukowiec | C17: powiat rypiński | H17: 115 - spółki partnerskie
A18: Bydgoszcz | C18: powiat sępoleński | H18: 116 - spółki akcyjne
A19: Bytoń | C19: powiat świecki | H19: 117 - spółki z ograniczoną odpowiedzialnością
A20: Cekcyn | C20: powiat toruński | H20: 118 - spółki jawne
... A24: Chełmża - gmina wiejska | C24: powiat żniński | H24: 124 - przedsiębiorstwa państwowe
A25: Choceń | H25: 126 - towarzystwa ubezpieczeń wzajemnych
A26: Chodecz | H26: 132 - instytucje gospodarki budżetowej
A27: Chrostkowo | H27: 133 - związki zawodowe rolników indywidualnych
A28: Ciechocin | H28: 134 - towarzystwa reasekuracji wzajemnej
A29: Ciechocinek | H29: 135 - główne oddziały zagranicznych zakładów reasekuracji
A30: Czernikowo | H30: 136 - główne oddziały zagranicznych oddziałów ubezpieczeń
A31: Dąbrowa | H31: 137 - ogólnokrajowe zrzeszenia międzybranżowe
A32: Dąbrowa Biskupia | H32: 138 - ogólnokrajowe związki międzybranżowe
A33: Dąbrowa Chełmińska | H33: 140 - spółdzielnie
A34: Dębowa Łąka | H34: 141 - jednostki badawczo-rozwojowe
A35: Dobrcz | H35: 142 - spółdzielnie europejskie
A36: Dobre | H36: 143 - związki rolników, kółek i organizacji rolniczych
... A98: Pruszcz | H98: 999 - bez szczególnej formy prawnej
A99: Raciążek
A100: Radomin
A101: Radziejów - gmina miejska
A102: Radziejów - gmina wiejska
A103: Radzyń Chełmiński
A104: Rogowo (powiat rypiński)
A105: Rogowo (powiat żniński)
A106: Rogóźno
A107: Rojewo
A108: Ryńsk
A109: Rypin - gmina miejska
A110: Rypin - gmina wiejska
... A145: Żnin

Sheet EKSPORT DO BAZY
A1: =WNIOSEK!R61 -> #DIV/0! | B1: =WNIOSEK!D12 -> 0 | C1: =WNIOSEK!K12 -> Wybierz z listy: | D1: =WNIOSEK!R12 -> 0 | E1: =WNIOSEK!I60 -> 0 | F1: =WNIOSEK!I61 -> Wybierz z listy: | G1: =WNIOSEK!E50 -> 0 | H1: =WNIOSEK!E52 -> 0 | I1: =WNIOSEK!E54 -> #DIV/0! | J1: =WNIOSEK!M54 -> 0 | K1: =WNIOSEK!R60 -> #DIV/0! | L1: =WNIOSEK!F14 -> 0 | M1: =WNIOSEK!G26 -> 0 | N1: =WNIOSEK!D18 -> 0 | O1: =WNIOSEK!D28 -> Wybierz z listy: | P1: =WNIOSEK!D30 -> Wybierz z listy: | Q1: =WNIOSEK!M30 -> Wybierz z listy: | R1: =WNIOSEK!N18 -> Wybierz z listy: | S1: =WNIOSEK!Q18 -> Wybierz z listy: | T1: =WNIOSEK!J20 -> 0 | U1: =WNIOSEK!I22 -> 0 | V1: =WNIOSEK!O22 -> 0 | W1: =WNIOSEK!S22 -> 0 | X1: =WNIOSEK!S20 -> 0 | Y1: =WNIOSEK!I24 -> 0 | Z1: =WNIOSEK!O24 -> 0 | AA1: =WNIOSEK!C21 -> 0 | AB1: =WNIOSEK!C22 -> 0 | AC1: =WNIOSEK!C23 -> 0 | AD1: =WNIOSEK!C24 -> 0 | AE1: =WNIOSEK!D69 -> 0 | AF1: =WNIOSEK!K69 -> 0 | AG1: =WNIOSEK!G16 -> 0
A5: liczba punktów | B5: numer wniosku | C5: data wpłynięcia wniosku | D5: godzina wpłynięcia wniosku | E5: teoret. liczba miejsc pracy | F5: zadeklar. liczba miejsc pracy | G5: obrót wrzesień | H5: obrót listopad | I5: spadek% | J5: czy rozpoczął po 1.12.2019 | K5: przysługujące dofinansowanie | L5: nazwa | M5: nr rachunku bankowego | N5: NIP | O5: PKD | P5: forma prawna | Q5: status | R5: powiat | S5: gmina | T5: miejscowość | U5: ulica | V5: nr budynku | W5: nr lokalu | X5: kod pocztowy | Y5: telefon | Z5: adres email | AA5: osoba do kontaktu - imię | AB5: osoba do kontaktu - nazwisko | AC5: osoba do kontaktu - telefon | AD5: osoba do kontaktu - adres email | AE5: NIP Podmiotu 1 | AF5: NIP Podmiotu 2 | AG5: rok rozpoczęcia
